BEGIN:VCALENDAR
VERSION:2.0
PRODID:-//Lancaster Review - ECPv6.15.20//NONSGML v1.0//EN
CALSCALE:GREGORIAN
METHOD:PUBLISH
X-WR-CALNAME:Lancaster Review
X-ORIGINAL-URL:https://lancasterreview.com
X-WR-CALDESC:Events for Lancaster Review
REFRESH-INTERVAL;VALUE=DURATION:PT1H
X-Robots-Tag:noindex
X-PUBLISHED-TTL:PT1H
BEGIN:VTIMEZONE
TZID:America/New_York
BEGIN:DAYLIGHT
TZOFFSETFROM:-0500
TZOFFSETTO:-0400
TZNAME:EDT
DTSTART:20250309T070000
END:DAYLIGHT
BEGIN:STANDARD
TZOFFSETFROM:-0400
TZOFFSETTO:-0500
TZNAME:EST
DTSTART:20251102T060000
END:STANDARD
BEGIN:DAYLIGHT
TZOFFSETFROM:-0500
TZOFFSETTO:-0400
TZNAME:EDT
DTSTART:20260308T070000
END:DAYLIGHT
BEGIN:STANDARD
TZOFFSETFROM:-0400
TZOFFSETTO:-0500
TZNAME:EST
DTSTART:20261101T060000
END:STANDARD
BEGIN:DAYLIGHT
TZOFFSETFROM:-0500
TZOFFSETTO:-0400
TZNAME:EDT
DTSTART:20270314T070000
END:DAYLIGHT
BEGIN:STANDARD
TZOFFSETFROM:-0400
TZOFFSETTO:-0500
TZNAME:EST
DTSTART:20271107T060000
END:STANDARD
END:VTIMEZONE
BEGIN:VEVENT
DTSTART;TZID=America/New_York:20260515T190000
DTEND;TZID=America/New_York:20260515T210000
DTSTAMP:20260420T121500
CREATED:20260419T145938Z
LAST-MODIFIED:20260420T120841Z
UID:4946-1778871600-1778878800@lancasterreview.com
SUMMARY:House Concert: Alex Brubaker & Joe Cheng
DESCRIPTION:Music on the Map presents: Unique fingerstyle guitar and violin in a cozy living room in Lancaster\, PA. “Brubaker is a Lancaster\, Pennsylvania-based\, percussive fingerstyle guitarist. Combining traditional\, melodic fingerstyle playing with the rhythmic drive from two hand tapping and percussive hits on the body and strings of the guitar\, he couples technique with elements such as live looping to create complex soundscapes.” https://alexbrubakerguitar.com/ Violinist Joe Cheng will join Brubaker to provide a unique collaboration of sounds and styles in instrumental music. \nWhat’s a house concert? Neighbors\, music aficionados\, and friends (old & new) join to create a comfy\, respectful listening atmosphere. Suggested donation is $10+ if you can\, but Music on the Map is always pay-what-you-will with all donations directly supporting the musical artist. Please don’t let a dollar amount stop you from coming. \nThe address (in Northeast Lancaster City) & parking instructions will be sent to attendees prior to the concert\, so you need to sign up on the Eventbrite to get the address. Concert starts at 7:00pm with an optional potluck starting at 6:00pm.
URL:https://lancasterreview.com/event/house-concert-alex-brubaker-joe-cheng/
CATEGORIES:Live Music
ATTACH;FMTTYPE=image/webp:https://lancasterreview.com/wp-content/uploads/2026/04/alex-joe.webp
END:VEVENT
END:VCALENDAR