BEGIN:VCALENDAR
VERSION:2.0
PRODID:-//Lancaster Review - ECPv6.15.20//NONSGML v1.0//EN
CALSCALE:GREGORIAN
METHOD:PUBLISH
X-WR-CALNAME:Lancaster Review
X-ORIGINAL-URL:https://lancasterreview.com
X-WR-CALDESC:Events for Lancaster Review
REFRESH-INTERVAL;VALUE=DURATION:PT1H
X-Robots-Tag:noindex
X-PUBLISHED-TTL:PT1H
BEGIN:VTIMEZONE
TZID:America/New_York
BEGIN:DAYLIGHT
TZOFFSETFROM:-0500
TZOFFSETTO:-0400
TZNAME:EDT
DTSTART:20250309T070000
END:DAYLIGHT
BEGIN:STANDARD
TZOFFSETFROM:-0400
TZOFFSETTO:-0500
TZNAME:EST
DTSTART:20251102T060000
END:STANDARD
BEGIN:DAYLIGHT
TZOFFSETFROM:-0500
TZOFFSETTO:-0400
TZNAME:EDT
DTSTART:20260308T070000
END:DAYLIGHT
BEGIN:STANDARD
TZOFFSETFROM:-0400
TZOFFSETTO:-0500
TZNAME:EST
DTSTART:20261101T060000
END:STANDARD
BEGIN:DAYLIGHT
TZOFFSETFROM:-0500
TZOFFSETTO:-0400
TZNAME:EDT
DTSTART:20270314T070000
END:DAYLIGHT
BEGIN:STANDARD
TZOFFSETFROM:-0400
TZOFFSETTO:-0500
TZNAME:EST
DTSTART:20271107T060000
END:STANDARD
END:VTIMEZONE
BEGIN:VEVENT
DTSTART;TZID=America/New_York:20260430T100000
DTEND;TZID=America/New_York:20260430T200000
DTSTAMP:20260420T121811
CREATED:20260409T205507Z
LAST-MODIFIED:20260415T123148Z
UID:4791-1777543200-1777579200@lancasterreview.com
SUMMARY:Mother's Day / Jewelry Sale
DESCRIPTION:Mother’s Day / Jewelry Sale\nQuarryville Library Center\, 357 Buck Rd. Quarryville\nThursday\, 30 April & Friday\, 1 May \nThe Friends of the Quarryville Library will be having a Mother’s Day Gift and Jewelry Sale as a Fundraiser for the Quarryville Library Center. It will be Thursday 30 April from 10-8:00 pm and Friday\, 1 May from 10-6:00 pm in the Lobby and in the Pennington Room. There will be gift items\, baked goods and Lots of jewelry. Vintage\, Classic\, BOHO\, Costume and even a Treasure Trove for Princes and Princesses. A great selection and low prices! For more information\, visit https://calendar.lancasterlibraries.org/event/mothers-day-sale-129878
URL:https://lancasterreview.com/event/mothers-day-jewelry-sale/
CATEGORIES:Family / Kid-Friendly
END:VEVENT
END:VCALENDAR