BEGIN:VCALENDAR
VERSION:2.0
PRODID:-//Lancaster Review - ECPv6.15.20//NONSGML v1.0//EN
CALSCALE:GREGORIAN
METHOD:PUBLISH
X-WR-CALNAME:Lancaster Review
X-ORIGINAL-URL:https://lancasterreview.com
X-WR-CALDESC:Events for Lancaster Review
REFRESH-INTERVAL;VALUE=DURATION:PT1H
X-Robots-Tag:noindex
X-PUBLISHED-TTL:PT1H
BEGIN:VTIMEZONE
TZID:America/New_York
BEGIN:DAYLIGHT
TZOFFSETFROM:-0500
TZOFFSETTO:-0400
TZNAME:EDT
DTSTART:20250309T070000
END:DAYLIGHT
BEGIN:STANDARD
TZOFFSETFROM:-0400
TZOFFSETTO:-0500
TZNAME:EST
DTSTART:20251102T060000
END:STANDARD
BEGIN:DAYLIGHT
TZOFFSETFROM:-0500
TZOFFSETTO:-0400
TZNAME:EDT
DTSTART:20260308T070000
END:DAYLIGHT
BEGIN:STANDARD
TZOFFSETFROM:-0400
TZOFFSETTO:-0500
TZNAME:EST
DTSTART:20261101T060000
END:STANDARD
BEGIN:DAYLIGHT
TZOFFSETFROM:-0500
TZOFFSETTO:-0400
TZNAME:EDT
DTSTART:20270314T070000
END:DAYLIGHT
BEGIN:STANDARD
TZOFFSETFROM:-0400
TZOFFSETTO:-0500
TZNAME:EST
DTSTART:20271107T060000
END:STANDARD
END:VTIMEZONE
BEGIN:VEVENT
DTSTART;TZID=America/New_York:20260521T200000
DTEND;TZID=America/New_York:20260521T230000
DTSTAMP:20260419T080018
CREATED:20260318T000541Z
LAST-MODIFIED:20260318T000541Z
UID:4074-1779393600-1779404400@lancasterreview.com
SUMMARY:PENTAGRAM w. Legions of Doom
DESCRIPTION:DOORS @ 7PM | $30 ADV / $35 DOS | 18+\n\n\nIn compliance with PA state law\, there will be a designated section for minors under the age of 21
URL:https://lancasterreview.com/event/pentagram-w-legions-of-doom/
LOCATION:Phantom Power\, 121 West Frederick St.\, Millersville\, PA\, 17551\, United States
ATTACH;FMTTYPE=image/jpeg:https://lancasterreview.com/wp-content/uploads/2026/03/c847ac453559ce4fb9266b5d6bd41174.jpg
END:VEVENT
END:VCALENDAR