BEGIN:VCALENDAR
VERSION:2.0
PRODID:-//Lancaster Review - ECPv6.15.20//NONSGML v1.0//EN
CALSCALE:GREGORIAN
METHOD:PUBLISH
X-WR-CALNAME:Lancaster Review
X-ORIGINAL-URL:https://lancasterreview.com
X-WR-CALDESC:Events for Lancaster Review
REFRESH-INTERVAL;VALUE=DURATION:PT1H
X-Robots-Tag:noindex
X-PUBLISHED-TTL:PT1H
BEGIN:VTIMEZONE
TZID:America/New_York
BEGIN:DAYLIGHT
TZOFFSETFROM:-0500
TZOFFSETTO:-0400
TZNAME:EDT
DTSTART:20250309T070000
END:DAYLIGHT
BEGIN:STANDARD
TZOFFSETFROM:-0400
TZOFFSETTO:-0500
TZNAME:EST
DTSTART:20251102T060000
END:STANDARD
BEGIN:DAYLIGHT
TZOFFSETFROM:-0500
TZOFFSETTO:-0400
TZNAME:EDT
DTSTART:20260308T070000
END:DAYLIGHT
BEGIN:STANDARD
TZOFFSETFROM:-0400
TZOFFSETTO:-0500
TZNAME:EST
DTSTART:20261101T060000
END:STANDARD
BEGIN:DAYLIGHT
TZOFFSETFROM:-0500
TZOFFSETTO:-0400
TZNAME:EDT
DTSTART:20270314T070000
END:DAYLIGHT
BEGIN:STANDARD
TZOFFSETFROM:-0400
TZOFFSETTO:-0500
TZNAME:EST
DTSTART:20271107T060000
END:STANDARD
END:VTIMEZONE
BEGIN:VEVENT
DTSTART;TZID=America/New_York:20260508T200000
DTEND;TZID=America/New_York:20260508T230000
DTSTAMP:20260421T042821
CREATED:20251129T123021Z
LAST-MODIFIED:20260318T000538Z
UID:1933-1778270400-1778281200@lancasterreview.com
SUMMARY:Powerman 5000 w. 12 Stones\, Makes My Blood Dance
DESCRIPTION:DOORS @ 7PM | $25 ADV / $30 DOS | ALL AGES\n\n\nIn compliance with PA state law\, there will be a designated section for minors under the age of 21
URL:https://lancasterreview.com/event/powerman-5000-w-12-stones-makes-my-blood-dance/
LOCATION:Phantom Power\, 121 West Frederick St.\, Millersville\, PA\, 17551\, United States
ATTACH;FMTTYPE=image/jpeg:https://lancasterreview.com/wp-content/uploads/2025/11/91ae536d3fff04d1b98b8ad5a6c303a9.jpg
END:VEVENT
END:VCALENDAR