BEGIN:VCALENDAR
VERSION:2.0
PRODID:-//Lancaster Review - ECPv6.15.20//NONSGML v1.0//EN
CALSCALE:GREGORIAN
METHOD:PUBLISH
X-WR-CALNAME:Lancaster Review
X-ORIGINAL-URL:https://lancasterreview.com
X-WR-CALDESC:Events for Lancaster Review
REFRESH-INTERVAL;VALUE=DURATION:PT1H
X-Robots-Tag:noindex
X-PUBLISHED-TTL:PT1H
BEGIN:VTIMEZONE
TZID:America/New_York
BEGIN:DAYLIGHT
TZOFFSETFROM:-0500
TZOFFSETTO:-0400
TZNAME:EDT
DTSTART:20250309T070000
END:DAYLIGHT
BEGIN:STANDARD
TZOFFSETFROM:-0400
TZOFFSETTO:-0500
TZNAME:EST
DTSTART:20251102T060000
END:STANDARD
BEGIN:DAYLIGHT
TZOFFSETFROM:-0500
TZOFFSETTO:-0400
TZNAME:EDT
DTSTART:20260308T070000
END:DAYLIGHT
BEGIN:STANDARD
TZOFFSETFROM:-0400
TZOFFSETTO:-0500
TZNAME:EST
DTSTART:20261101T060000
END:STANDARD
BEGIN:DAYLIGHT
TZOFFSETFROM:-0500
TZOFFSETTO:-0400
TZNAME:EDT
DTSTART:20270314T070000
END:DAYLIGHT
BEGIN:STANDARD
TZOFFSETFROM:-0400
TZOFFSETTO:-0500
TZNAME:EST
DTSTART:20271107T060000
END:STANDARD
END:VTIMEZONE
BEGIN:VEVENT
DTSTART;TZID=America/New_York:20260421T180000
DTEND;TZID=America/New_York:20260421T180000
DTSTAMP:20260421T042143
CREATED:20260420T201226Z
LAST-MODIFIED:20260420T201226Z
UID:10001034-1776794400-1776794400@lancasterreview.com
SUMMARY:Kids' Salsa (5+)
DESCRIPTION:Kids’ salsa class at the Ware Center.
URL:https://lancasterreview.com/event/kids-salsa-5/
LOCATION:Lancaster\, PA\, United States
CATEGORIES:Events
END:VEVENT
BEGIN:VEVENT
DTSTART;TZID=America/New_York:20260421T180000
DTEND;TZID=America/New_York:20260421T180000
DTSTAMP:20260421T042143
CREATED:20260420T201634Z
LAST-MODIFIED:20260420T201634Z
UID:10001142-1776794400-1776794400@lancasterreview.com
SUMMARY:Lit 903: Toni Morrison
DESCRIPTION:Seminar on three Morrison novels with Dr. Austin Carter. $100 enrollment includes book.
URL:https://lancasterreview.com/event/lit-903-toni-morrison/
LOCATION:Lancaster\, PA\, United States
CATEGORIES:Events
END:VEVENT
BEGIN:VEVENT
DTSTART;TZID=America/New_York:20260421T183000
DTEND;TZID=America/New_York:20260421T183000
DTSTAMP:20260421T042143
CREATED:20260420T201201Z
LAST-MODIFIED:20260420T201201Z
UID:10001019-1776796200-1776796200@lancasterreview.com
SUMMARY:Old Time Jam
DESCRIPTION:Weekly Old Time Jam in the West Art Coffee Bar\, led by Danny Mulligan. Tuesdays 6:30-9:30 pm. Acoustic instruments welcome\, no drums or amplifiers.
URL:https://lancasterreview.com/event/old-time-jam-7/
LOCATION:Lancaster\, PA\, United States
CATEGORIES:Clubs
ORGANIZER;CN="West Art":MAILTO:westartlanc@gmail.com
END:VEVENT
BEGIN:VEVENT
DTSTART;TZID=America/New_York:20260421T190000
DTEND;TZID=America/New_York:20260421T190000
DTSTAMP:20260421T042143
CREATED:20260420T201429Z
LAST-MODIFIED:20260420T201429Z
UID:10001083-1776798000-1776798000@lancasterreview.com
SUMMARY:Trivia Night
DESCRIPTION:
URL:https://lancasterreview.com/event/trivia-night-14/
LOCATION:Tellus360\, 24 East King Street\, Lancaster\, PA\, 17602\, United States
END:VEVENT
BEGIN:VEVENT
DTSTART;TZID=America/New_York:20260422T180000
DTEND;TZID=America/New_York:20260422T180000
DTSTAMP:20260421T042143
CREATED:20260420T201635Z
LAST-MODIFIED:20260420T201635Z
UID:10001143-1776880800-1776880800@lancasterreview.com
SUMMARY:Lit Fic Book Club: Kin
DESCRIPTION:April Lit Fic Book Club discussing Kin by Tayari Jones. No sign-up necessary.
URL:https://lancasterreview.com/event/lit-fic-book-club-kin/
LOCATION:Lancaster\, PA\, United States
CATEGORIES:Events
END:VEVENT
BEGIN:VEVENT
DTSTART;TZID=America/New_York:20260422T190000
DTEND;TZID=America/New_York:20260422T190000
DTSTAMP:20260421T042143
CREATED:20260420T201205Z
LAST-MODIFIED:20260420T201208Z
UID:10001023-1776884400-1776884400@lancasterreview.com
SUMMARY:West Art Open Mics
DESCRIPTION:Open mic night. 2nd and 4th Wednesday: BLAST OFF Open Mic with Emily Siegrist in The Elbow Room. Doors and signups at 7 pm.
URL:https://lancasterreview.com/event/west-art-open-mics-3/
LOCATION:Lancaster\, PA\, United States
CATEGORIES:Events
ORGANIZER;CN="West Art":MAILTO:westartlanc@gmail.com
END:VEVENT
BEGIN:VEVENT
DTSTART;TZID=America/New_York:20260422T190000
DTEND;TZID=America/New_York:20260422T190000
DTSTAMP:20260421T042143
CREATED:20260420T201206Z
LAST-MODIFIED:20260420T201208Z
UID:10001024-1776884400-1776884400@lancasterreview.com
SUMMARY:Lancaster Shakespeare Theatre Presents Our Town!
DESCRIPTION:Thornton Wilder’s timeless play. Directed by Laura Korach Howell.
URL:https://lancasterreview.com/event/lancaster-shakespeare-theatre-presents-our-town/
LOCATION:Lancaster\, PA\, United States
CATEGORIES:Events
ORGANIZER;CN="West Art":MAILTO:westartlanc@gmail.com
END:VEVENT
BEGIN:VEVENT
DTSTART;TZID=America/New_York:20260422T190000
DTEND;TZID=America/New_York:20260422T190000
DTSTAMP:20260421T042143
CREATED:20260420T201430Z
LAST-MODIFIED:20260420T201430Z
UID:10001084-1776884400-1776884400@lancasterreview.com
SUMMARY:Major Vibes: Friends-Days
DESCRIPTION:
URL:https://lancasterreview.com/event/major-vibes-friends-days-2/
LOCATION:Tellus360\, 24 East King Street\, Lancaster\, PA\, 17602\, United States
END:VEVENT
BEGIN:VEVENT
DTSTART;TZID=America/New_York:20260422T190000
DTEND;TZID=America/New_York:20260422T190000
DTSTAMP:20260421T042143
CREATED:20260420T201827Z
LAST-MODIFIED:20260420T201827Z
UID:10001195-1776884400-1776884400@lancasterreview.com
SUMMARY:Trivia Night
DESCRIPTION:Fun-filled trivia with $1 off beer and wine. Prizes: $25/$15/$10 gift cards.
URL:https://lancasterreview.com/event/trivia-night-21/
LOCATION:Southern Market Lancaster\, 100 South Queen Street\, Lancaster\, PA\, 17603\, United States
END:VEVENT
BEGIN:VEVENT
DTSTART;TZID=America/New_York:20260423T183000
DTEND;TZID=America/New_York:20260423T183000
DTSTAMP:20260421T042143
CREATED:20260420T201202Z
LAST-MODIFIED:20260420T201202Z
UID:10001020-1776969000-1776969000@lancasterreview.com
SUMMARY:Tech Lancaster!
DESCRIPTION:Tech Lancaster meetup at West Art.
URL:https://lancasterreview.com/event/tech-lancaster/
LOCATION:Lancaster\, PA\, United States
CATEGORIES:Clubs
ORGANIZER;CN="West Art":MAILTO:westartlanc@gmail.com
END:VEVENT
BEGIN:VEVENT
DTSTART;TZID=America/New_York:20260423T190000
DTEND;TZID=America/New_York:20260423T190000
DTSTAMP:20260421T042143
CREATED:20260420T201202Z
LAST-MODIFIED:20260420T201202Z
UID:10001021-1776970800-1776970800@lancasterreview.com
SUMMARY:Drink & Draw!
DESCRIPTION:A low-pressure art meetup open to all ages\, skill levels\, and artistic media. Every Thursday 7-9 pm. Hosted by @drinkndrawlanc.
URL:https://lancasterreview.com/event/drink-draw-7/
LOCATION:Lancaster\, PA\, United States
CATEGORIES:Clubs
ORGANIZER;CN="West Art":MAILTO:westartlanc@gmail.com
END:VEVENT
BEGIN:VEVENT
DTSTART;TZID=America/New_York:20260423T190000
DTEND;TZID=America/New_York:20260423T190000
DTSTAMP:20260421T042143
CREATED:20260420T201829Z
LAST-MODIFIED:20260420T201829Z
UID:10001196-1776970800-1776970800@lancasterreview.com
SUMMARY:Music Trivia: 2000's Female Icons
DESCRIPTION:Celebrating Beyonce\, Britney\, Shakira\, Rihanna and more. $1 off beer and wine. Prizes.
URL:https://lancasterreview.com/event/music-trivia-2000s-female-icons/
LOCATION:Southern Market Lancaster\, 100 South Queen Street\, Lancaster\, PA\, 17603\, United States
END:VEVENT
BEGIN:VEVENT
DTSTART;TZID=America/New_York:20260423T210000
DTEND;TZID=America/New_York:20260423T210000
DTSTAMP:20260421T042143
CREATED:20260420T201432Z
LAST-MODIFIED:20260420T201432Z
UID:10001086-1776978000-1776978000@lancasterreview.com
SUMMARY:Karaoke Night
DESCRIPTION:
URL:https://lancasterreview.com/event/karaoke-night-2/
LOCATION:Tellus360\, 24 East King Street\, Lancaster\, PA\, 17602\, United States
END:VEVENT
BEGIN:VEVENT
DTSTART;TZID=America/New_York:20260424T150000
DTEND;TZID=America/New_York:20260424T150000
DTSTAMP:20260421T042143
CREATED:20260420T201203Z
LAST-MODIFIED:20260420T201203Z
UID:10001022-1777042800-1777042800@lancasterreview.com
SUMMARY:Watercolor Club with Jo Davis
DESCRIPTION:All-ages watercolor session in the Art Bar 3-4 pm Fridays. $15 per class via Venmo.
URL:https://lancasterreview.com/event/watercolor-club-with-jo-davis-3/
LOCATION:Lancaster\, PA\, United States
CATEGORIES:Clubs
ORGANIZER;CN="West Art":MAILTO:westartlanc@gmail.com
END:VEVENT
BEGIN:VEVENT
DTSTART;TZID=America/New_York:20260424T150000
DTEND;TZID=America/New_York:20260424T150000
DTSTAMP:20260421T042143
CREATED:20260420T201242Z
LAST-MODIFIED:20260420T201242Z
UID:10001046-1777042800-1777042800@lancasterreview.com
SUMMARY:The Chronology of Water
DESCRIPTION:Dir. Kristen Stewart. Starring Earl Cave\, Imogen Poots\, Jim Belushi\, Thora Birch.
URL:https://lancasterreview.com/event/the-chronology-of-water/
LOCATION:Lancaster\, PA\, United States
END:VEVENT
BEGIN:VEVENT
DTSTART;TZID=America/New_York:20260424T170000
DTEND;TZID=America/New_York:20260424T170000
DTSTAMP:20260421T042143
CREATED:20260420T201433Z
LAST-MODIFIED:20260420T203030Z
UID:10001087-1777050000-1777050000@lancasterreview.com
SUMMARY:Spill the Tea Garden Party
DESCRIPTION:Spill the Tea Garden Party\n\nDearest gentle reader… A most enchanting evening awaits. \nSpill the Tea is an all-girls\, by-the-girls garden soirée inspired by florals\, femininity\, and just a hint of scandal. This themed spring celebration invites women and femme-identifying guests to gather\, dress up\, and take up space in a space designed intentionally for them. \nDress in your garden finest. Think bows\, lace\, pastels\, florals\, gloves\, tea-length dresses\, or modern romantic glam. This is your moment. \nThroughout the evening\, expect:\n• A fully themed atmosphere\n• Curated music by women DJs\n• Specialty cocktails\n• Styled photo moments\n• Immersive décor and visual installations\n• A room filled with bold\, magnetic energy \nThis is more than a party. It is a celebration of style\, friendship\, confidence\, and community. \nEvery good garden party holds a little delicious drama… and perhaps a secret or two. \nCome ready to be seen. Curated by Embodyment Productions Co.
URL:https://lancasterreview.com/event/spill-the-tea-garden-party/
LOCATION:Tellus360\, 24 East King Street\, Lancaster\, PA\, 17602\, United States
END:VEVENT
BEGIN:VEVENT
DTSTART;TZID=America/New_York:20260424T190000
DTEND;TZID=America/New_York:20260424T190000
DTSTAMP:20260421T042143
CREATED:20260420T201433Z
LAST-MODIFIED:20260420T201433Z
UID:10001088-1777057200-1777057200@lancasterreview.com
SUMMARY:Leo DiSanto & Friends
DESCRIPTION:
URL:https://lancasterreview.com/event/leo-disanto-friends-2/
LOCATION:Tellus360\, 24 East King Street\, Lancaster\, PA\, 17602\, United States
END:VEVENT
BEGIN:VEVENT
DTSTART;TZID=America/New_York:20260424T190000
DTEND;TZID=America/New_York:20260424T190000
DTSTAMP:20260421T042143
CREATED:20260420T201830Z
LAST-MODIFIED:20260420T203327Z
UID:10001197-1777057200-1777057200@lancasterreview.com
SUMMARY:Bridge Street Trio
DESCRIPTION:The Bridge Street Trio brings a fresh\, lively take on crowd-favorite covers. Featuring Nathan Kraus on guitar and vocals\, Michael Kleine on bass and vocals\, and Tristan Miller on drums\, this Lancaster-based trio delivers a smooth blend of rhythm\, melody\, and energy for a great night of live music.
URL:https://lancasterreview.com/event/bridge-street-trio-2/
LOCATION:Southern Market Lancaster\, 100 South Queen Street\, Lancaster\, PA\, 17603\, United States
END:VEVENT
BEGIN:VEVENT
DTSTART;TZID=America/New_York:20260424T193000
DTEND;TZID=America/New_York:20260424T193000
DTSTAMP:20260421T042143
CREATED:20260331T000051Z
LAST-MODIFIED:20260420T201208Z
UID:10000997-1777059000-1777059000@lancasterreview.com
SUMMARY:Jesse Barki Album Release\, w/ Special Guest Olivia Basar\, Maxwell Stern\, and The Gunshy!
DESCRIPTION:Release of Jesse Barki’s album ‘Revisited.’ Plus Olivia Basar\, Maxwell Stern\, and The Gunshy. Rescheduled from March 6th – original tickets valid.
URL:https://lancasterreview.com/event/jesse-barki-album-release-w-special-guest-olivia-basar-maxwell-stern-and-the-gunshy-2/
LOCATION:Lancaster\, PA\, United States
CATEGORIES:Concerts,Live Music
ORGANIZER;CN="West Art":MAILTO:westartlanc@gmail.com
END:VEVENT
BEGIN:VEVENT
DTSTART;TZID=America/New_York:20260424T193000
DTEND;TZID=America/New_York:20260424T193000
DTSTAMP:20260421T042143
CREATED:20260420T201229Z
LAST-MODIFIED:20260420T201229Z
UID:10001040-1777059000-1777059000@lancasterreview.com
SUMMARY:Old In The Way Tribute plus Elisha Grant Band
DESCRIPTION:Double bill: The Elisha Grant Band (Americana) and Old And In The Way (classic bluegrass tribute). No added fees.
URL:https://lancasterreview.com/event/old-in-the-way-tribute-plus-elisha-grant-band/
LOCATION:Lititz Shirt Factory\, 5 Juniper Lane\, Lititz\, Pennsylvania\, 17543\, United States
END:VEVENT
BEGIN:VEVENT
DTSTART;TZID=America/New_York:20260424T193000
DTEND;TZID=America/New_York:20260424T193000
DTSTAMP:20260421T042143
CREATED:20260420T201328Z
LAST-MODIFIED:20260420T201328Z
UID:10001056-1777059000-1777059000@lancasterreview.com
SUMMARY:Grainne Hunt as a duo with Jules Stewart
DESCRIPTION:Bi-Continental Queer Folk Duo. Queer nu-folk singer-songwriter.
URL:https://lancasterreview.com/event/grainne-hunt-as-a-duo-with-jules-stewart/
LOCATION:Lancaster\, PA\, United States
END:VEVENT
BEGIN:VEVENT
DTSTART;TZID=America/New_York:20260424T193000
DTEND;TZID=America/New_York:20260517T213000
DTSTAMP:20260421T042143
CREATED:20260317T235526Z
LAST-MODIFIED:20260420T203228Z
UID:10000759-1777059000-1779053400@lancasterreview.com
SUMMARY:Dear Evan Hansen
DESCRIPTION:The first show ever in Castagna Hall at the Fulton Theatre. Tony Award-winning musical. \nAll his life\, Evan Hansen has felt invisible. But when a tragic event shocks the community and thrusts him into the center of a rapidly evolving controversy\, Evan is given the opportunity of a lifetime: the chance to be somebody else.
URL:https://lancasterreview.com/event/dear-evan-hansen/
LOCATION:Lancaster\, PA\, United States
END:VEVENT
BEGIN:VEVENT
DTSTART;TZID=America/New_York:20260424T210000
DTEND;TZID=America/New_York:20260424T210000
DTSTAMP:20260421T042143
CREATED:20260420T201434Z
LAST-MODIFIED:20260420T201434Z
UID:10001089-1777064400-1777064400@lancasterreview.com
SUMMARY:DJ Evolution
DESCRIPTION:
URL:https://lancasterreview.com/event/dj-evolution/
LOCATION:Tellus360\, 24 East King Street\, Lancaster\, PA\, 17602\, United States
END:VEVENT
BEGIN:VEVENT
DTSTART;TZID=America/New_York:20260424T220000
DTEND;TZID=America/New_York:20260424T220000
DTSTAMP:20260421T042143
CREATED:20260420T201435Z
LAST-MODIFIED:20260420T201435Z
UID:10001090-1777068000-1777068000@lancasterreview.com
SUMMARY:BIG ROOM VIBES with Major Vibes
DESCRIPTION:
URL:https://lancasterreview.com/event/big-room-vibes-with-major-vibes-2/
LOCATION:Tellus360\, 24 East King Street\, Lancaster\, PA\, 17602\, United States
END:VEVENT
BEGIN:VEVENT
DTSTART;TZID=America/New_York:20260425T090000
DTEND;TZID=America/New_York:20260425T110000
DTSTAMP:20260421T042143
CREATED:20260318T000008Z
LAST-MODIFIED:20260318T000008Z
UID:10000817-1777107600-1777114800@lancasterreview.com
SUMMARY:Volunteer Workday at Clark Nature Preserve
DESCRIPTION:Be a part of the solution and give back to nature!\n\n\nJoin us as we work on invasive plant removal as part of a comprehensive eco-restoration program for Clark Nature Preserve. We will be using hand tools to remove invasive shrubs and weeds. This work directly contributes to restoring native ecology and protecting regional biodiversity. \nWhat to Expect and How to Prepare: We will use hand tools to remove invasive shrubs and weeds. The work involves using loppers and hand saws to cut shrubs at their base. Some of the shrubs have thorns. All tools and work gloves are provided. \nDress for the weather and wear clothes you don’t mind getting muddy or torn. Sturdy pants are recommended due to the presence of thorns. Bring drinking water. There are port-a-johns on site. This event is recommended for ages 12 and up (participants under age 18 must be accompanied by an adult). \nAnimal Policy: Service animals active or in training are welcome. Please leave all pets at home. \nCancellation Policy: This event will be held rain or shine\, with cancellation a day in advance for severe weather. If the Conservancy reschedules the event\, attendees will be emailed and tickets will be automatically moved to the new date. If the Conservancy cancels the event\, attendees will be notified via email and refunded. \nPhoto Credit: Keith Williams \n\n\nThank you to our generous annual sponsors for making this event possible!
URL:https://lancasterreview.com/event/volunteer-workday-at-clark-nature-preserve-2/
LOCATION:Clark Nature Preserve\, 400 House Rock Road\, Pequea\, PA\, 17565\, United States
ATTACH;FMTTYPE=image/jpeg:https://lancasterreview.com/wp-content/uploads/2026/03/1ee539415a90f36329566de3e4134d49.jpg
END:VEVENT
BEGIN:VEVENT
DTSTART;TZID=America/New_York:20260425T090000
DTEND;TZID=America/New_York:20260425T113000
DTSTAMP:20260421T042143
CREATED:20260318T000006Z
LAST-MODIFIED:20260318T000006Z
UID:10000816-1777107600-1777116600@lancasterreview.com
SUMMARY:Phenology Hike at High Family Nature Preserve
DESCRIPTION:Come help us observe at High Family Nature Preserve with the science of phenology!\n\n\nPhenology is the science of seasonal change in nature\, using observations collected over time to see how these changes affect flora and fauna. In partnership with the USGS Phenology Network and Nature’s Notebook\, this workshop will teach you the science of phenology and how you can collect and contribute your own observations as a volunteer scientist. This information helps us to be better stewards of our ecological communities and helps our stewardship team make management decisions for our nature preserves. The data we collect is not only useful to us\, but to hundreds of phenology projects around the region and nation! \nLearn more about this community science project at https://www.lancasterconservancy.org/engaging-our-community/phenology/. \nWhat to Expect: Join our newest phenology team volunteers for our first group hike and learning experience through the meadow and woods at High Family Nature Preserve. Find out what species we’re watching and how observational changes over time will help us learn how our ecological restoration efforts are taking shape. This event is for ages 13 and up (participants under 18 must be accompanied by an adult). \nWhat to Bring: Dress for the weather and bring a notebook or\, if you have an existing account/app with USGS My Nature Notebook\, your smart phone or tablet. There is a port-a-john available across the street at Old Trolley Line Park. \nWhere to Meet: We will meet at Old Trolley Line Park and walk across the street together to High Family Nature Preserve. \nEvent Leader Bio: Peggy Eppig is an environmental historian and dynamic conservation educator who offers a hands-on approach to every theme from deep-time history to 21st century conservation methods and practices. She brings over 30 years of interpretive\, experiential education experience for all who have an interest in saving nature for this and future generations. \nAnimal Policy: Service animals active or in training are welcome. Please leave all pets at home. \nRefund Policy: If you are unable to attend this event after purchasing a ticket\, refund requests must be made at least 48 hours before the event. \nCancellation Policy: This event will be held rain or shine\, with cancellation a day in advance for severe weather. If the Conservancy reschedules the event\, attendees will be emailed\, and tickets will be automatically moved to the new date. If the Conservancy cancels the event\, attendees will be notified via email and refunded. \nPhoto Credit: Peggy Eppig \n \n\n\nThank you to our generous annual sponsors for making this event possible!
URL:https://lancasterreview.com/event/phenology-hike-at-high-family-nature-preserve/
LOCATION:Old Trolley Line Park\, 455 Beverly Rd\, Elizabethtown\, PA\, 17022\, United States
ATTACH;FMTTYPE=image/jpeg:https://lancasterreview.com/wp-content/uploads/2026/03/1497c801ab2e386a5ef8f0c438a8e977.jpg
END:VEVENT
BEGIN:VEVENT
DTSTART;TZID=America/New_York:20260425T100000
DTEND;TZID=America/New_York:20260425T100000
DTSTAMP:20260421T042143
CREATED:20260420T201759Z
LAST-MODIFIED:20260420T201759Z
UID:10001184-1777111200-1777111200@lancasterreview.com
SUMMARY:Indie Bookstore Day
DESCRIPTION:Spend $100 and get a free book. Find the Golden Ticket for 12 Libro.fm credits. Poet SJ Lynne writing poems 12-4pm in Sun Gallery.
URL:https://lancasterreview.com/event/indie-bookstore-day/
LOCATION:Lancaster\, PA\, United States
END:VEVENT
BEGIN:VEVENT
DTSTART;TZID=America/New_York:20260425T103000
DTEND;TZID=America/New_York:20260425T103000
DTSTAMP:20260421T042143
CREATED:20260420T201759Z
LAST-MODIFIED:20260420T201759Z
UID:10001185-1777113000-1777113000@lancasterreview.com
SUMMARY:Storytime with Author Meg Auchenbach
DESCRIPTION:Meg Auchenbach reads If You Are an Artist with props\, songs\, and a craft. All ages.
URL:https://lancasterreview.com/event/storytime-with-author-meg-auchenbach/
LOCATION:Lancaster\, PA\, United States
END:VEVENT
BEGIN:VEVENT
DTSTART;TZID=America/New_York:20260425T110000
DTEND;TZID=America/New_York:20260425T120000
DTSTAMP:20260421T042143
CREATED:20260318T001031Z
LAST-MODIFIED:20260318T001031Z
UID:10000878-1777114800-1777118400@lancasterreview.com
SUMMARY:Crevice Succulent Garden (Intercourse Location)
DESCRIPTION:Combine shale\, succulents and natural elements to create a captivating miniature landscape garden\n\n\nCreate a miniature landscape inspired by nature’s rock gardens. In this hands-on workshop\, you’ll design your owncrevice garden using a 10” clay bowl\, five hardy sedums\, and an assortment of shale and driftwood to build a layeredmini scape. This low-maintenance garden is suitable for both indoor and outdoor display and brings texture\, structure\,and natural beauty to any space. \nThis workshop is limited to 12 people. Each person must purchase a ticket to participate\, it is not allowed for two people to “share” one ticket. Pre-registration and pre-payment are required to hold your spot. *All classes last 1 hour or less* Workshop starts promptly at start time. *Terms & Conditions-Please note this is NOT a bring your own materials to this event. We’ve got all of that covered. Cancellations allowed up to 24 hours prior to event. Please note cancellations will incur a processing fee. No refunds 24 hours before event.
URL:https://lancasterreview.com/event/crevice-succulent-garden-intercourse-location/
LOCATION:Ken’s Gardens – Intercourse Location\, Ken's Gardens\, 3552 W Newport Rd\, Ronks\, PA\, 17572\, United States
ATTACH;FMTTYPE=image/jpeg:https://lancasterreview.com/wp-content/uploads/2026/03/dd3b5ceb941565c54c7e57c7c5d2c892.jpg
END:VEVENT
BEGIN:VEVENT
DTSTART;TZID=America/New_York:20260425T110000
DTEND;TZID=America/New_York:20260425T120000
DTSTAMP:20260421T042143
CREATED:20260318T001033Z
LAST-MODIFIED:20260318T001033Z
UID:10000879-1777114800-1777118400@lancasterreview.com
SUMMARY:Herb Container Gardening and Talk  (Smoketown Location)
DESCRIPTION:Learn about different types of herbs as you plant some of your own to enjoy all season long.\n\n\nPlant your own herb garden and enjoy fresh herbs all season long. In this fun and informative workshop\, you’ll learn about common culinary herbs and how to plant and care for your herb garden at home. All supplies are provided\, including a 10” decorative container and five herbs\, so you’ll leave with a fully planted\, ready-to-grow garden. \n \nThis workshop is limited to 12 people. Each person must purchase a ticket to participate\, it is not allowed for two people to “share” one ticket. Pre-registration and pre-payment are required to hold your spot. *All classes last 1 hour or less* Workshop starts promptly at start time. *Terms & Conditions-Please note this is NOT a bring your own materials to this event. We’ve got all of that covered. Cancellations allowed up to 24 hours prior to event. Please note cancellations will incur a processing fee. No refunds 24 hours before event.
URL:https://lancasterreview.com/event/herb-container-gardening-and-talk-smoketown-location/
LOCATION:Ken’s Gardens\, 2467 Old Philadelphia Pike\, Lancaster\, PA\, 17602\, United States
ATTACH;FMTTYPE=image/jpeg:https://lancasterreview.com/wp-content/uploads/2026/03/a871063b815eeee1485ea62cfb252e64.jpg
END:VEVENT
END:VCALENDAR