BEGIN:VCALENDAR
VERSION:2.0
PRODID:-//Lancaster Review - ECPv6.15.20//NONSGML v1.0//EN
CALSCALE:GREGORIAN
METHOD:PUBLISH
X-ORIGINAL-URL:https://lancasterreview.com
X-WR-CALDESC:Events for Lancaster Review
REFRESH-INTERVAL;VALUE=DURATION:PT1H
X-Robots-Tag:noindex
X-PUBLISHED-TTL:PT1H
BEGIN:VTIMEZONE
TZID:America/New_York
BEGIN:DAYLIGHT
TZOFFSETFROM:-0500
TZOFFSETTO:-0400
TZNAME:EDT
DTSTART:20250309T070000
END:DAYLIGHT
BEGIN:STANDARD
TZOFFSETFROM:-0400
TZOFFSETTO:-0500
TZNAME:EST
DTSTART:20251102T060000
END:STANDARD
BEGIN:DAYLIGHT
TZOFFSETFROM:-0500
TZOFFSETTO:-0400
TZNAME:EDT
DTSTART:20260308T070000
END:DAYLIGHT
BEGIN:STANDARD
TZOFFSETFROM:-0400
TZOFFSETTO:-0500
TZNAME:EST
DTSTART:20261101T060000
END:STANDARD
BEGIN:DAYLIGHT
TZOFFSETFROM:-0500
TZOFFSETTO:-0400
TZNAME:EDT
DTSTART:20270314T070000
END:DAYLIGHT
BEGIN:STANDARD
TZOFFSETFROM:-0400
TZOFFSETTO:-0500
TZNAME:EST
DTSTART:20271107T060000
END:STANDARD
END:VTIMEZONE
BEGIN:VEVENT
DTSTART;TZID=America/New_York:20260815T190000
DTEND;TZID=America/New_York:20260815T220000
DTSTAMP:20260421T042330
CREATED:20260318T000546Z
LAST-MODIFIED:20260318T000546Z
UID:10000857-1786820400-1786831200@lancasterreview.com
SUMMARY:Legends Never Die (A celebration of Qwan Lewis)
DESCRIPTION:6pm doors // 21 + (Minors admitted with legal guardian over 25)\n\n\nOn August 15\, 2026\, we’re coming together to honor 10 years of Qwan’s life\, music\, and legacy. This night is about reconnecting\, sharing stories\, celebrating the good times\, and being together — just how he would’ve wanted. Join us from 7:00–10:00 PM at Phantom Power in Millersville\, PA for a House DJ\, live performances\, raffles\, silent auctions\, and video game tournaments. All ticket\, raffle\, and auction proceeds benefit the Qwan K. Lewis Scholarship Fund. \nWe can’t wait to celebrate with you.
URL:https://lancasterreview.com/event/legends-never-die-a-celebration-of-qwan-lewis/
LOCATION:Phantom Power\, 121 West Frederick St.\, Millersville\, PA\, 17551\, United States
ATTACH;FMTTYPE=image/jpeg:https://lancasterreview.com/wp-content/uploads/2026/03/dda6c4c625f7e7f710644ba0e8157418.jpg
END:VEVENT
END:VCALENDAR