BEGIN:VCALENDAR
VERSION:2.0
PRODID:-//Lancaster Review - ECPv6.15.20//NONSGML v1.0//EN
CALSCALE:GREGORIAN
METHOD:PUBLISH
X-WR-CALNAME:Lancaster Review
X-ORIGINAL-URL:https://lancasterreview.com
X-WR-CALDESC:Events for Lancaster Review
REFRESH-INTERVAL;VALUE=DURATION:PT1H
X-Robots-Tag:noindex
X-PUBLISHED-TTL:PT1H
BEGIN:VTIMEZONE
TZID:America/New_York
BEGIN:DAYLIGHT
TZOFFSETFROM:-0500
TZOFFSETTO:-0400
TZNAME:EDT
DTSTART:20250309T070000
END:DAYLIGHT
BEGIN:STANDARD
TZOFFSETFROM:-0400
TZOFFSETTO:-0500
TZNAME:EST
DTSTART:20251102T060000
END:STANDARD
BEGIN:DAYLIGHT
TZOFFSETFROM:-0500
TZOFFSETTO:-0400
TZNAME:EDT
DTSTART:20260308T070000
END:DAYLIGHT
BEGIN:STANDARD
TZOFFSETFROM:-0400
TZOFFSETTO:-0500
TZNAME:EST
DTSTART:20261101T060000
END:STANDARD
BEGIN:DAYLIGHT
TZOFFSETFROM:-0500
TZOFFSETTO:-0400
TZNAME:EDT
DTSTART:20270314T070000
END:DAYLIGHT
BEGIN:STANDARD
TZOFFSETFROM:-0400
TZOFFSETTO:-0500
TZNAME:EST
DTSTART:20271107T060000
END:STANDARD
END:VTIMEZONE
BEGIN:VEVENT
DTSTART;TZID=America/New_York:20260422T190000
DTEND;TZID=America/New_York:20260422T190000
DTSTAMP:20260421T105311
CREATED:20260420T201827Z
LAST-MODIFIED:20260420T201827Z
UID:10001195-1776884400-1776884400@lancasterreview.com
SUMMARY:Trivia Night
DESCRIPTION:Fun-filled trivia with $1 off beer and wine. Prizes: $25/$15/$10 gift cards.
URL:https://lancasterreview.com/event/trivia-night-21/
LOCATION:Southern Market Lancaster\, 100 South Queen Street\, Lancaster\, PA\, 17603\, United States
END:VEVENT
BEGIN:VEVENT
DTSTART;TZID=America/New_York:20260423T190000
DTEND;TZID=America/New_York:20260423T190000
DTSTAMP:20260421T105311
CREATED:20260420T201829Z
LAST-MODIFIED:20260420T201829Z
UID:10001196-1776970800-1776970800@lancasterreview.com
SUMMARY:Music Trivia: 2000's Female Icons
DESCRIPTION:Celebrating Beyonce\, Britney\, Shakira\, Rihanna and more. $1 off beer and wine. Prizes.
URL:https://lancasterreview.com/event/music-trivia-2000s-female-icons/
LOCATION:Southern Market Lancaster\, 100 South Queen Street\, Lancaster\, PA\, 17603\, United States
END:VEVENT
BEGIN:VEVENT
DTSTART;TZID=America/New_York:20260424T190000
DTEND;TZID=America/New_York:20260424T190000
DTSTAMP:20260421T105311
CREATED:20260420T201830Z
LAST-MODIFIED:20260420T203327Z
UID:10001197-1777057200-1777057200@lancasterreview.com
SUMMARY:Bridge Street Trio
DESCRIPTION:The Bridge Street Trio brings a fresh\, lively take on crowd-favorite covers. Featuring Nathan Kraus on guitar and vocals\, Michael Kleine on bass and vocals\, and Tristan Miller on drums\, this Lancaster-based trio delivers a smooth blend of rhythm\, melody\, and energy for a great night of live music.
URL:https://lancasterreview.com/event/bridge-street-trio-2/
LOCATION:Southern Market Lancaster\, 100 South Queen Street\, Lancaster\, PA\, 17603\, United States
END:VEVENT
BEGIN:VEVENT
DTSTART;TZID=America/New_York:20260429T190000
DTEND;TZID=America/New_York:20260429T190000
DTSTAMP:20260421T105311
CREATED:20260420T201830Z
LAST-MODIFIED:20260420T201830Z
UID:10001198-1777489200-1777489200@lancasterreview.com
SUMMARY:Trivia Night
DESCRIPTION:Fun-filled trivia with $1 off beer and wine. Prizes: $25/$15/$10 gift cards.
URL:https://lancasterreview.com/event/trivia-night-22/
LOCATION:Southern Market Lancaster\, 100 South Queen Street\, Lancaster\, PA\, 17603\, United States
END:VEVENT
BEGIN:VEVENT
DTSTART;TZID=America/New_York:20260430T190000
DTEND;TZID=America/New_York:20260430T190000
DTSTAMP:20260421T105311
CREATED:20260420T201831Z
LAST-MODIFIED:20260420T201831Z
UID:10001199-1777575600-1777575600@lancasterreview.com
SUMMARY:Music Trivioke: Trivia followed by Karaoke
DESCRIPTION:Music trivia then karaoke. $1 off beer and wine. Prizes.
URL:https://lancasterreview.com/event/music-trivioke-trivia-followed-by-karaoke/
LOCATION:Southern Market Lancaster\, 100 South Queen Street\, Lancaster\, PA\, 17603\, United States
END:VEVENT
BEGIN:VEVENT
DTSTART;TZID=America/New_York:20260508T190000
DTEND;TZID=America/New_York:20260508T190000
DTSTAMP:20260421T105311
CREATED:20260420T201831Z
LAST-MODIFIED:20260420T201831Z
UID:10001200-1778266800-1778266800@lancasterreview.com
SUMMARY:Comedy Night
DESCRIPTION:Joey Callahan and Derek Lee. Doors 6pm\, show 7pm. The Willow Room at Southern Market.
URL:https://lancasterreview.com/event/comedy-night/
LOCATION:Southern Market Lancaster\, 100 South Queen Street\, Lancaster\, PA\, 17603\, United States
END:VEVENT
BEGIN:VEVENT
DTSTART;TZID=America/New_York:20260515T180000
DTEND;TZID=America/New_York:20260515T180000
DTSTAMP:20260421T105311
CREATED:20260420T201913Z
LAST-MODIFIED:20260420T201913Z
UID:10001201-1778868000-1778868000@lancasterreview.com
SUMMARY:Glass & Tile Art Class
DESCRIPTION:Mosaic workshop with Elena Neff. Create a suncatcher or wall decor with stained glass\, tiles\, and beads. All materials provided. $65/person.
URL:https://lancasterreview.com/event/glass-tile-art-class-2/
LOCATION:Southern Market Lancaster\, 100 South Queen Street\, Lancaster\, PA\, 17603\, United States
CATEGORIES:Events
END:VEVENT
END:VCALENDAR