BEGIN:VCALENDAR
VERSION:2.0
PRODID:-//Lancaster Review - ECPv6.15.20//NONSGML v1.0//EN
CALSCALE:GREGORIAN
METHOD:PUBLISH
X-ORIGINAL-URL:https://lancasterreview.com
X-WR-CALDESC:Events for Lancaster Review
REFRESH-INTERVAL;VALUE=DURATION:PT1H
X-Robots-Tag:noindex
X-PUBLISHED-TTL:PT1H
BEGIN:VTIMEZONE
TZID:America/New_York
BEGIN:DAYLIGHT
TZOFFSETFROM:-0500
TZOFFSETTO:-0400
TZNAME:EDT
DTSTART:20250309T070000
END:DAYLIGHT
BEGIN:STANDARD
TZOFFSETFROM:-0400
TZOFFSETTO:-0500
TZNAME:EST
DTSTART:20251102T060000
END:STANDARD
BEGIN:DAYLIGHT
TZOFFSETFROM:-0500
TZOFFSETTO:-0400
TZNAME:EDT
DTSTART:20260308T070000
END:DAYLIGHT
BEGIN:STANDARD
TZOFFSETFROM:-0400
TZOFFSETTO:-0500
TZNAME:EST
DTSTART:20261101T060000
END:STANDARD
BEGIN:DAYLIGHT
TZOFFSETFROM:-0500
TZOFFSETTO:-0400
TZNAME:EDT
DTSTART:20270314T070000
END:DAYLIGHT
BEGIN:STANDARD
TZOFFSETFROM:-0400
TZOFFSETTO:-0500
TZNAME:EST
DTSTART:20271107T060000
END:STANDARD
END:VTIMEZONE
BEGIN:VEVENT
DTSTART;TZID=America/New_York:20260505T190000
DTEND;TZID=America/New_York:20260505T190000
DTSTAMP:20260422T112527
CREATED:20260420T201535Z
LAST-MODIFIED:20260420T201535Z
UID:10001109-1778007600-1778007600@lancasterreview.com
SUMMARY:Trivia Night
DESCRIPTION:
URL:https://lancasterreview.com/event/trivia-night-16/
LOCATION:Tellus360\, 24 East King Street\, Lancaster\, PA\, 17602\, United States
END:VEVENT
BEGIN:VEVENT
DTSTART;TZID=America/New_York:20260506T190000
DTEND;TZID=America/New_York:20260506T190000
DTSTAMP:20260422T112527
CREATED:20260420T201536Z
LAST-MODIFIED:20260420T201536Z
UID:10001110-1778094000-1778094000@lancasterreview.com
SUMMARY:Major Vibes: Friends-Days
DESCRIPTION:
URL:https://lancasterreview.com/event/major-vibes-friends-days-4/
LOCATION:Tellus360\, 24 East King Street\, Lancaster\, PA\, 17602\, United States
END:VEVENT
BEGIN:VEVENT
DTSTART;TZID=America/New_York:20260507T210000
DTEND;TZID=America/New_York:20260507T210000
DTSTAMP:20260422T112527
CREATED:20260420T201540Z
LAST-MODIFIED:20260420T201540Z
UID:10001111-1778187600-1778187600@lancasterreview.com
SUMMARY:Karaoke Night
DESCRIPTION:
URL:https://lancasterreview.com/event/karaoke-night-4/
LOCATION:Tellus360\, 24 East King Street\, Lancaster\, PA\, 17602\, United States
END:VEVENT
BEGIN:VEVENT
DTSTART;TZID=America/New_York:20260508T210000
DTEND;TZID=America/New_York:20260508T210000
DTSTAMP:20260422T112527
CREATED:20260420T201540Z
LAST-MODIFIED:20260420T201540Z
UID:10001112-1778274000-1778274000@lancasterreview.com
SUMMARY:Harry's House Party
DESCRIPTION:
URL:https://lancasterreview.com/event/harrys-house-party/
LOCATION:Tellus360\, 24 East King Street\, Lancaster\, PA\, 17602\, United States
END:VEVENT
BEGIN:VEVENT
DTSTART;TZID=America/New_York:20260508T220000
DTEND;TZID=America/New_York:20260508T220000
DTSTAMP:20260422T112527
CREATED:20260420T201541Z
LAST-MODIFIED:20260420T201541Z
UID:10001113-1778277600-1778277600@lancasterreview.com
SUMMARY:BIG ROOM VIBES with Major Vibes
DESCRIPTION:
URL:https://lancasterreview.com/event/big-room-vibes-with-major-vibes-3/
LOCATION:Tellus360\, 24 East King Street\, Lancaster\, PA\, 17602\, United States
END:VEVENT
BEGIN:VEVENT
DTSTART;TZID=America/New_York:20260509T200000
DTEND;TZID=America/New_York:20260509T200000
DTSTAMP:20260422T112527
CREATED:20260420T201541Z
LAST-MODIFIED:20260420T201541Z
UID:10001114-1778356800-1778356800@lancasterreview.com
SUMMARY:WXPN Welcomes Mo Lowda & the Humble
DESCRIPTION:
URL:https://lancasterreview.com/event/wxpn-welcomes-mo-lowda-the-humble/
LOCATION:Tellus360\, 24 East King Street\, Lancaster\, PA\, 17602\, United States
END:VEVENT
BEGIN:VEVENT
DTSTART;TZID=America/New_York:20260509T220000
DTEND;TZID=America/New_York:20260509T220000
DTSTAMP:20260422T112527
CREATED:20260420T201542Z
LAST-MODIFIED:20260420T201542Z
UID:10001115-1778364000-1778364000@lancasterreview.com
SUMMARY:raDiANCE with DJ Edge
DESCRIPTION:
URL:https://lancasterreview.com/event/radiance-with-dj-edge-4/
LOCATION:Tellus360\, 24 East King Street\, Lancaster\, PA\, 17602\, United States
END:VEVENT
BEGIN:VEVENT
DTSTART;TZID=America/New_York:20260510T140000
DTEND;TZID=America/New_York:20260510T140000
DTSTAMP:20260422T112527
CREATED:20260420T201545Z
LAST-MODIFIED:20260420T201545Z
UID:10001116-1778421600-1778421600@lancasterreview.com
SUMMARY:Jam Session with Matt Wenger
DESCRIPTION:
URL:https://lancasterreview.com/event/jam-session-with-matt-wenger-2/
LOCATION:Tellus360\, 24 East King Street\, Lancaster\, PA\, 17602\, United States
END:VEVENT
BEGIN:VEVENT
DTSTART;TZID=America/New_York:20260511T190000
DTEND;TZID=America/New_York:20260511T190000
DTSTAMP:20260422T112527
CREATED:20260420T201546Z
LAST-MODIFIED:20260420T201546Z
UID:10001117-1778526000-1778526000@lancasterreview.com
SUMMARY:Open Mic Artist Sessions w/ Henry Devorick
DESCRIPTION:
URL:https://lancasterreview.com/event/open-mic-artist-sessions-w-henry-devorick-5/
LOCATION:Tellus360\, 24 East King Street\, Lancaster\, PA\, 17602\, United States
END:VEVENT
BEGIN:VEVENT
DTSTART;TZID=America/New_York:20260512T190000
DTEND;TZID=America/New_York:20260512T190000
DTSTAMP:20260422T112527
CREATED:20260420T201546Z
LAST-MODIFIED:20260420T201546Z
UID:10001118-1778612400-1778612400@lancasterreview.com
SUMMARY:Trivia Night
DESCRIPTION:
URL:https://lancasterreview.com/event/trivia-night-17/
LOCATION:Tellus360\, 24 East King Street\, Lancaster\, PA\, 17602\, United States
END:VEVENT
BEGIN:VEVENT
DTSTART;TZID=America/New_York:20260513T190000
DTEND;TZID=America/New_York:20260513T190000
DTSTAMP:20260422T112527
CREATED:20260420T201547Z
LAST-MODIFIED:20260420T201547Z
UID:10001119-1778698800-1778698800@lancasterreview.com
SUMMARY:Major Vibes: Friends-Days
DESCRIPTION:
URL:https://lancasterreview.com/event/major-vibes-friends-days-5/
LOCATION:Tellus360\, 24 East King Street\, Lancaster\, PA\, 17602\, United States
END:VEVENT
BEGIN:VEVENT
DTSTART;TZID=America/New_York:20260514T210000
DTEND;TZID=America/New_York:20260514T210000
DTSTAMP:20260422T112527
CREATED:20260420T201548Z
LAST-MODIFIED:20260420T201548Z
UID:10001120-1778792400-1778792400@lancasterreview.com
SUMMARY:Karaoke Night
DESCRIPTION:
URL:https://lancasterreview.com/event/karaoke-night-5/
LOCATION:Tellus360\, 24 East King Street\, Lancaster\, PA\, 17602\, United States
END:VEVENT
BEGIN:VEVENT
DTSTART;TZID=America/New_York:20260515T200000
DTEND;TZID=America/New_York:20260515T200000
DTSTAMP:20260422T112527
CREATED:20260420T201550Z
LAST-MODIFIED:20260420T201550Z
UID:10001121-1778875200-1778875200@lancasterreview.com
SUMMARY:Rumba Night
DESCRIPTION:
URL:https://lancasterreview.com/event/rumba-night-2/
LOCATION:Tellus360\, 24 East King Street\, Lancaster\, PA\, 17602\, United States
END:VEVENT
BEGIN:VEVENT
DTSTART;TZID=America/New_York:20260515T220000
DTEND;TZID=America/New_York:20260515T220000
DTSTAMP:20260422T112527
CREATED:20260420T201550Z
LAST-MODIFIED:20260420T201550Z
UID:10001122-1778882400-1778882400@lancasterreview.com
SUMMARY:BIG ROOM VIBES with Major Vibes
DESCRIPTION:
URL:https://lancasterreview.com/event/big-room-vibes-with-major-vibes-4/
LOCATION:Tellus360\, 24 East King Street\, Lancaster\, PA\, 17602\, United States
END:VEVENT
BEGIN:VEVENT
DTSTART;TZID=America/New_York:20260516T210000
DTEND;TZID=America/New_York:20260516T210000
DTSTAMP:20260422T112527
CREATED:20260420T201551Z
LAST-MODIFIED:20260420T201551Z
UID:10001123-1778965200-1778965200@lancasterreview.com
SUMMARY:K-POP RAVE
DESCRIPTION:
URL:https://lancasterreview.com/event/k-pop-rave/
LOCATION:Tellus360\, 24 East King Street\, Lancaster\, PA\, 17602\, United States
END:VEVENT
BEGIN:VEVENT
DTSTART;TZID=America/New_York:20260516T220000
DTEND;TZID=America/New_York:20260516T220000
DTSTAMP:20260422T112527
CREATED:20260420T201551Z
LAST-MODIFIED:20260420T201551Z
UID:10001124-1778968800-1778968800@lancasterreview.com
SUMMARY:raDiANCE with DJ Edge
DESCRIPTION:
URL:https://lancasterreview.com/event/radiance-with-dj-edge-5/
LOCATION:Tellus360\, 24 East King Street\, Lancaster\, PA\, 17602\, United States
END:VEVENT
BEGIN:VEVENT
DTSTART;TZID=America/New_York:20260517T140000
DTEND;TZID=America/New_York:20260517T140000
DTSTAMP:20260422T112527
CREATED:20260420T201552Z
LAST-MODIFIED:20260420T201552Z
UID:10001125-1779026400-1779026400@lancasterreview.com
SUMMARY:Old Time Jam Session w/ Danny Mulligan
DESCRIPTION:
URL:https://lancasterreview.com/event/old-time-jam-session-w-danny-mulligan-2/
LOCATION:Tellus360\, 24 East King Street\, Lancaster\, PA\, 17602\, United States
END:VEVENT
BEGIN:VEVENT
DTSTART;TZID=America/New_York:20260518T190000
DTEND;TZID=America/New_York:20260518T190000
DTSTAMP:20260422T112527
CREATED:20260420T201619Z
LAST-MODIFIED:20260420T201619Z
UID:10001126-1779130800-1779130800@lancasterreview.com
SUMMARY:Open Mic Artist Sessions w/ Henry Devorick
DESCRIPTION:
URL:https://lancasterreview.com/event/open-mic-artist-sessions-w-henry-devorick-6/
LOCATION:Tellus360\, 24 East King Street\, Lancaster\, PA\, 17602\, United States
CATEGORIES:Events,Live Music
END:VEVENT
BEGIN:VEVENT
DTSTART;TZID=America/New_York:20260519T190000
DTEND;TZID=America/New_York:20260519T190000
DTSTAMP:20260422T112527
CREATED:20260420T201620Z
LAST-MODIFIED:20260420T201620Z
UID:10001127-1779217200-1779217200@lancasterreview.com
SUMMARY:Trivia Night
DESCRIPTION:
URL:https://lancasterreview.com/event/trivia-night-18/
LOCATION:Tellus360\, 24 East King Street\, Lancaster\, PA\, 17602\, United States
CATEGORIES:Events
END:VEVENT
BEGIN:VEVENT
DTSTART;TZID=America/New_York:20260520T190000
DTEND;TZID=America/New_York:20260520T190000
DTSTAMP:20260422T112527
CREATED:20260420T201620Z
LAST-MODIFIED:20260420T201620Z
UID:10001128-1779303600-1779303600@lancasterreview.com
SUMMARY:Major Vibes: Friends-Days
DESCRIPTION:
URL:https://lancasterreview.com/event/major-vibes-friends-days-6/
LOCATION:Tellus360\, 24 East King Street\, Lancaster\, PA\, 17602\, United States
CATEGORIES:Events
END:VEVENT
BEGIN:VEVENT
DTSTART;TZID=America/New_York:20260521T210000
DTEND;TZID=America/New_York:20260521T210000
DTSTAMP:20260422T112527
CREATED:20260420T201621Z
LAST-MODIFIED:20260420T201621Z
UID:10001129-1779397200-1779397200@lancasterreview.com
SUMMARY:Karaoke Night
DESCRIPTION:
URL:https://lancasterreview.com/event/karaoke-night-6/
LOCATION:Tellus360\, 24 East King Street\, Lancaster\, PA\, 17602\, United States
CATEGORIES:Events
END:VEVENT
BEGIN:VEVENT
DTSTART;TZID=America/New_York:20260522T220000
DTEND;TZID=America/New_York:20260522T220000
DTSTAMP:20260422T112527
CREATED:20260420T201621Z
LAST-MODIFIED:20260420T201621Z
UID:10001130-1779487200-1779487200@lancasterreview.com
SUMMARY:BIG ROOM VIBES with Major Vibes
DESCRIPTION:
URL:https://lancasterreview.com/event/big-room-vibes-with-major-vibes-5/
LOCATION:Tellus360\, 24 East King Street\, Lancaster\, PA\, 17602\, United States
CATEGORIES:Events
END:VEVENT
BEGIN:VEVENT
DTSTART;TZID=America/New_York:20260523T220000
DTEND;TZID=America/New_York:20260523T220000
DTSTAMP:20260422T112527
CREATED:20260420T201622Z
LAST-MODIFIED:20260420T201622Z
UID:10001131-1779573600-1779573600@lancasterreview.com
SUMMARY:raDiANCE with DJ Edge
DESCRIPTION:
URL:https://lancasterreview.com/event/radiance-with-dj-edge-6/
LOCATION:Tellus360\, 24 East King Street\, Lancaster\, PA\, 17602\, United States
END:VEVENT
BEGIN:VEVENT
DTSTART;TZID=America/New_York:20260524T140000
DTEND;TZID=America/New_York:20260524T140000
DTSTAMP:20260422T112527
CREATED:20260420T201623Z
LAST-MODIFIED:20260420T201623Z
UID:10001132-1779631200-1779631200@lancasterreview.com
SUMMARY:Irish Session with Paraic Keane
DESCRIPTION:
URL:https://lancasterreview.com/event/irish-session-with-paraic-keane-3/
LOCATION:Tellus360\, 24 East King Street\, Lancaster\, PA\, 17602\, United States
END:VEVENT
BEGIN:VEVENT
DTSTART;TZID=America/New_York:20260525T190000
DTEND;TZID=America/New_York:20260525T190000
DTSTAMP:20260422T112527
CREATED:20260420T201623Z
LAST-MODIFIED:20260420T201623Z
UID:10001133-1779735600-1779735600@lancasterreview.com
SUMMARY:Open Mic Artist Sessions w/ Henry Devorick
DESCRIPTION:
URL:https://lancasterreview.com/event/open-mic-artist-sessions-w-henry-devorick-7/
LOCATION:Tellus360\, 24 East King Street\, Lancaster\, PA\, 17602\, United States
END:VEVENT
BEGIN:VEVENT
DTSTART;TZID=America/New_York:20260526T190000
DTEND;TZID=America/New_York:20260526T190000
DTSTAMP:20260422T112527
CREATED:20260420T201624Z
LAST-MODIFIED:20260420T201624Z
UID:10001134-1779822000-1779822000@lancasterreview.com
SUMMARY:Trivia Night
DESCRIPTION:
URL:https://lancasterreview.com/event/trivia-night-19/
LOCATION:Tellus360\, 24 East King Street\, Lancaster\, PA\, 17602\, United States
END:VEVENT
BEGIN:VEVENT
DTSTART;TZID=America/New_York:20260527T190000
DTEND;TZID=America/New_York:20260527T190000
DTSTAMP:20260422T112527
CREATED:20260420T201625Z
LAST-MODIFIED:20260420T201625Z
UID:10001135-1779908400-1779908400@lancasterreview.com
SUMMARY:Major Vibes: Friends-Days
DESCRIPTION:
URL:https://lancasterreview.com/event/major-vibes-friends-days-7/
LOCATION:Tellus360\, 24 East King Street\, Lancaster\, PA\, 17602\, United States
END:VEVENT
BEGIN:VEVENT
DTSTART;TZID=America/New_York:20260528T180000
DTEND;TZID=America/New_York:20260528T180000
DTSTAMP:20260422T112527
CREATED:20260420T201626Z
LAST-MODIFIED:20260420T201626Z
UID:10001136-1779991200-1779991200@lancasterreview.com
SUMMARY:Lavender Lounge: Queer Womxn Meetup
DESCRIPTION:
URL:https://lancasterreview.com/event/lavender-lounge-queer-womxn-meetup-2/
LOCATION:Tellus360\, 24 East King Street\, Lancaster\, PA\, 17602\, United States
END:VEVENT
BEGIN:VEVENT
DTSTART;TZID=America/New_York:20260528T210000
DTEND;TZID=America/New_York:20260528T210000
DTSTAMP:20260422T112527
CREATED:20260420T201627Z
LAST-MODIFIED:20260420T201627Z
UID:10001137-1780002000-1780002000@lancasterreview.com
SUMMARY:Karaoke Night
DESCRIPTION:
URL:https://lancasterreview.com/event/karaoke-night-7/
LOCATION:Tellus360\, 24 East King Street\, Lancaster\, PA\, 17602\, United States
END:VEVENT
BEGIN:VEVENT
DTSTART;TZID=America/New_York:20260529T220000
DTEND;TZID=America/New_York:20260529T220000
DTSTAMP:20260422T112527
CREATED:20260420T201628Z
LAST-MODIFIED:20260420T201628Z
UID:10001138-1780092000-1780092000@lancasterreview.com
SUMMARY:BIG ROOM VIBES with Major Vibes
DESCRIPTION:
URL:https://lancasterreview.com/event/big-room-vibes-with-major-vibes-6/
LOCATION:Tellus360\, 24 East King Street\, Lancaster\, PA\, 17602\, United States
END:VEVENT
END:VCALENDAR